BEGIN:VCALENDAR
VERSION:2.0
PRODID:icalendar-ruby
CALSCALE:GREGORIAN
METHOD:PUBLISH
BEGIN:VEVENT
DTSTAMP:20260421T005444Z
UID:257-1297469@gracebcdansville.org
DTSTART:20260613T123000Z
DTEND:20260614T160000Z
CLASS:PUBLIC
CREATED:20260420T125136
DESCRIPTION:
LAST-MODIFIED:20260420T125136
LOCATION:Grace Baptist Church 
SUMMARY:Missions Conference 
URL;VALUE=URI:https://www.gracebcdansville.org/events/missions-conference/2
 026-06-13
ATTACH;FILENAME=IMG_3677.jpeg;FMTTYPE=image/jpeg:https://dq5pwpg1q8ru0.clou
 dfront.net/2026/04/20/16/51/36/d0962b57-9a79-453f-94d2-619d38dee220/IMG_36
 77.jpeg
END:VEVENT
END:VCALENDAR
